Workbook
Name TABLE: Factors!$F$22:$F$33

Sheet VASU NOTE

Sheet ARENDT NOTE

Sheet Factors
A1: Factors for SWOT analysis
A2: Opportunities | B2: 1 | D2: Threats | E2: 1
B3: 2 | E3: 2
B4: 3 | E4: 3
B5: 4 | E5: 4
B6: 5 | E6: 5
B7: 6 | E7: 6
B8: 7 | E8: 7
B9: 8 | E9: 8
B10: 9 | E10: 9
B11: 10 | E11: 10
A12: Strengths | B12: 1 | D12: Weaknesses | E12: 1
B13: 2 | E13: 2
B14: 3 | E14: 3
B15: 4 | E15: 4
B16: 5 | E16: 5
B17: 6 | E17: 6
B18: 7 | E18: 7
B19: 8 | E19: 8
B20: 9 | E20: 9
B21: 10 | E21: 10

Sheet Analysis of intersections
A1: Factors for SWOT analysis
C2: Strengths | D2: Weaknesses
C3: =+Factors!C12 -> 0 | D3: =+Factors!F12 -> 0
C4: =+Factors!C13 -> 0 | D4: =+Factors!F13 -> 0
C5: =+Factors!C14 -> 0 | D5: =+Factors!F14 -> 0
C6: =+Factors!C15 -> 0 | D6: =+Factors!F15 -> 0
C7: =+Factors!C16 -> 0 | D7: =+Factors!F16 -> 0
C8: =+Factors!C17 -> 0 | D8: =+Factors!F17 -> 0
C9: =+Factors!C18 -> 0 | D9: =+Factors!F18 -> 0
C10: =+Factors!C19 -> 0 | D10: =+Factors!F19 -> 0
C11: =+Factors!C20 -> 0 | D11: =+Factors!F20 -> 0
A12: Opportunities | B12: =+Factors!C2 -> 0
B13: =+Factors!C3 -> 0
B14: =+Factors!C4 -> 0
B15: =+Factors!C5 -> 0
B16: =+Factors!C6 -> 0
B17: =+Factors!C7 -> 0
B18: =+Factors!C8 -> 0
B19: =+Factors!C9 -> 0
B20: =+Factors!C10 -> 0
B21: =+Factors!C11 -> 0
A22: Threats | B22: =+Factors!F2 -> 0
B23: =+Factors!F3 -> 0
B24: =+Factors!F4 -> 0
B25: =+Factors!F5 -> 0
B26: =+Factors!F6 -> 0
B27: =+Factors!F7 -> 0
B28: =+Factors!F8 -> 0
B29: =+Factors!F9 -> 0
B30: =+Factors!F10 -> 0
B31: =+Factors!F11 -> 0

Sheet Notes and references
